BEGIN:VCALENDAR
VERSION:2.0
PRODID:-//Levenslijn Team Damme - RoDaHeliS - ECPv6.15.20//NONSGML v1.0//EN
CALSCALE:GREGORIAN
METHOD:PUBLISH
X-WR-CALNAME:Levenslijn Team Damme - RoDaHeliS
X-ORIGINAL-URL:https://levenslijndamme.be
X-WR-CALDESC:Evenementen voor Levenslijn Team Damme - RoDaHeliS
REFRESH-INTERVAL;VALUE=DURATION:PT1H
X-Robots-Tag:noindex
X-PUBLISHED-TTL:PT1H
BEGIN:VTIMEZONE
TZID:Europe/Paris
BEGIN:DAYLIGHT
TZOFFSETFROM:+0100
TZOFFSETTO:+0200
TZNAME:CEST
DTSTART:20240331T010000
END:DAYLIGHT
BEGIN:STANDARD
TZOFFSETFROM:+0200
TZOFFSETTO:+0100
TZNAME:CET
DTSTART:20241027T010000
END:STANDARD
BEGIN:DAYLIGHT
TZOFFSETFROM:+0100
TZOFFSETTO:+0200
TZNAME:CEST
DTSTART:20250330T010000
END:DAYLIGHT
BEGIN:STANDARD
TZOFFSETFROM:+0200
TZOFFSETTO:+0100
TZNAME:CET
DTSTART:20251026T010000
END:STANDARD
BEGIN:DAYLIGHT
TZOFFSETFROM:+0100
TZOFFSETTO:+0200
TZNAME:CEST
DTSTART:20260329T010000
END:DAYLIGHT
BEGIN:STANDARD
TZOFFSETFROM:+0200
TZOFFSETTO:+0100
TZNAME:CET
DTSTART:20261025T010000
END:STANDARD
END:VTIMEZONE
BEGIN:VEVENT
DTSTART;TZID=Europe/Paris:20250305T080000
DTEND;TZID=Europe/Paris:20250305T150000
DTSTAMP:20260423T201515
CREATED:20250106T125940Z
LAST-MODIFIED:20250206T131941Z
UID:1357-1741161600-1741186800@levenslijndamme.be
SUMMARY:14de Krokustocht
DESCRIPTION:  \nKrokustocht 05 maart: \nEen bewegwijzerde rustige landelijke wandeltocht langs historische boerderijen.  Ook het Schipdonkkanaal biedt je een hartverwarmende omgeving. \nLevenslijnteam Damme voorziet een spaarkaart. \nStart en aankomst in het sportcomplex te Moerkerke Vissersstraat 2A tussen 8h00 en 15h00. Keuze tussen 6\, 9\, 12\, 18 en 22km. Elk volgens zijn eigen voorkeur. \nKortste afstand toegankelijk voor rolstoelgebruikers en kinderwagens. \n \n 
URL:https://levenslijndamme.be/event/14de-krokustocht/
LOCATION:Sportcomplex Moerkerke
CATEGORIES:Wandeltocht
END:VEVENT
END:VCALENDAR