BEGIN:VCALENDAR
VERSION:2.0
PRODID:-//Levenslijn Team Damme - RoDaHeliS - ECPv6.15.20//NONSGML v1.0//EN
CALSCALE:GREGORIAN
METHOD:PUBLISH
X-ORIGINAL-URL:https://levenslijndamme.be
X-WR-CALDESC:Evenementen voor Levenslijn Team Damme - RoDaHeliS
REFRESH-INTERVAL;VALUE=DURATION:PT1H
X-Robots-Tag:noindex
X-PUBLISHED-TTL:PT1H
BEGIN:VTIMEZONE
TZID:Europe/Paris
BEGIN:DAYLIGHT
TZOFFSETFROM:+0100
TZOFFSETTO:+0200
TZNAME:CEST
DTSTART:20240331T010000
END:DAYLIGHT
BEGIN:STANDARD
TZOFFSETFROM:+0200
TZOFFSETTO:+0100
TZNAME:CET
DTSTART:20241027T010000
END:STANDARD
BEGIN:DAYLIGHT
TZOFFSETFROM:+0100
TZOFFSETTO:+0200
TZNAME:CEST
DTSTART:20250330T010000
END:DAYLIGHT
BEGIN:STANDARD
TZOFFSETFROM:+0200
TZOFFSETTO:+0100
TZNAME:CET
DTSTART:20251026T010000
END:STANDARD
BEGIN:DAYLIGHT
TZOFFSETFROM:+0100
TZOFFSETTO:+0200
TZNAME:CEST
DTSTART:20260329T010000
END:DAYLIGHT
BEGIN:STANDARD
TZOFFSETFROM:+0200
TZOFFSETTO:+0100
TZNAME:CET
DTSTART:20261025T010000
END:STANDARD
END:VTIMEZONE
BEGIN:VEVENT
DTSTART;TZID=Europe/Paris:20250427T080000
DTEND;TZID=Europe/Paris:20250427T170000
DTSTAMP:20260423T201535
CREATED:20250107T084335Z
LAST-MODIFIED:20250130T143745Z
UID:1388-1745740800-1745773200@levenslijndamme.be
SUMMARY:Vlaanderen wandelt - busuitstap naar Westmalle
DESCRIPTION:Busreis naar Westmalle op zondag 27 april in het kader van Vlaanderen Wandelt.\nGenieten van de mooiste plekjes in Malle en Zoersel langs een unieke combinatie van natuur en cultureel erfgoed. \nEr is eveneens randanimatie voorzien. \nAfstanden 5-6-10-12-16-25-33 en 51 km.\nKortste afstand is toegankelijk voor rol- en kinderwagens. \nBijdrage aan deze daguitstap\, busreis en inschrijvingsgeld wandeltocht inbegrepen bedraagt 20 euro en dit te storten op rekeningnummer BE74 1030 8801 1707. \nEr is een maximum aantal van 50 personen\, datum van ontvangst betaling telt als ingeschreven. Laatste inschrijving 22 april 2025. \nOpstappen is mogelijk te Sint Rita kerk om 07h30; Moerkerke sportcomplex om 07h40; Sijsele Lindenplein om 07h50 en Brugge Bargeplein rond 08h00.\nAanvang terugrit zal rond 16h00-16h30 zijn. \nInschrijven via Rita Vanheerentals.\nvanheerentalsrita@hotmail.com\nGsm 0478366271
URL:https://levenslijndamme.be/event/vlaanderen-wandelt-busuitstap-naar-westmalle/
CATEGORIES:Wandeltocht
END:VEVENT
END:VCALENDAR