BEGIN:VCALENDAR
VERSION:2.0
PRODID:-//Levenslijn Team Damme - RoDaHeliS - ECPv6.15.20//NONSGML v1.0//EN
CALSCALE:GREGORIAN
METHOD:PUBLISH
X-ORIGINAL-URL:https://levenslijndamme.be
X-WR-CALDESC:Evenementen voor Levenslijn Team Damme - RoDaHeliS
REFRESH-INTERVAL;VALUE=DURATION:PT1H
X-Robots-Tag:noindex
X-PUBLISHED-TTL:PT1H
BEGIN:VTIMEZONE
TZID:Europe/Paris
BEGIN:DAYLIGHT
TZOFFSETFROM:+0100
TZOFFSETTO:+0200
TZNAME:CEST
DTSTART:20230326T010000
END:DAYLIGHT
BEGIN:STANDARD
TZOFFSETFROM:+0200
TZOFFSETTO:+0100
TZNAME:CET
DTSTART:20231029T010000
END:STANDARD
BEGIN:DAYLIGHT
TZOFFSETFROM:+0100
TZOFFSETTO:+0200
TZNAME:CEST
DTSTART:20240331T010000
END:DAYLIGHT
BEGIN:STANDARD
TZOFFSETFROM:+0200
TZOFFSETTO:+0100
TZNAME:CET
DTSTART:20241027T010000
END:STANDARD
BEGIN:DAYLIGHT
TZOFFSETFROM:+0100
TZOFFSETTO:+0200
TZNAME:CEST
DTSTART:20250330T010000
END:DAYLIGHT
BEGIN:STANDARD
TZOFFSETFROM:+0200
TZOFFSETTO:+0100
TZNAME:CET
DTSTART:20251026T010000
END:STANDARD
END:VTIMEZONE
BEGIN:VEVENT
DTSTART;TZID=Europe/Paris:20241226T080000
DTEND;TZID=Europe/Paris:20241226T170000
DTSTAMP:20260424T015612
CREATED:20231105T075332Z
LAST-MODIFIED:20241102T195357Z
UID:1020-1735200000-1735232400@levenslijndamme.be
SUMMARY:Damme in Kerstsfeer
DESCRIPTION:Een wandeltocht in vredige Kerstsfeer langs en doorheen het boekendorp Damme met zijn prachtig stadhuis en zijn historische gebouwen. Langere afstanden doen zelfs het pittoreske Oostkerke aan. Liefhebbers kunnen de vele wintervogels spotten in het domein Romboutswerve. \nStart en aankomst in het stadhuis van Damme tussen 8h00 en 15h00. Keuze tussen 5\, 9\, 12\, 18 en 21km en dit volgens eigen voorkeur. \nKortste afstand toegankelijk voor rolstoelgebruikers en kinderwagens.
URL:https://levenslijndamme.be/event/damme-in-kerstsfeer-2/
LOCATION:Damme Stadhuis\, Markt 1\, Damme\, 8340\, België
CATEGORIES:Wandeltocht
END:VEVENT
END:VCALENDAR