BEGIN:VCALENDAR
VERSION:2.0
PRODID:-//Levenslijn Team Damme - RoDaHeliS - ECPv6.15.20//NONSGML v1.0//EN
CALSCALE:GREGORIAN
METHOD:PUBLISH
X-WR-CALNAME:Levenslijn Team Damme - RoDaHeliS
X-ORIGINAL-URL:https://levenslijndamme.be
X-WR-CALDESC:Evenementen voor Levenslijn Team Damme - RoDaHeliS
REFRESH-INTERVAL;VALUE=DURATION:PT1H
X-Robots-Tag:noindex
X-PUBLISHED-TTL:PT1H
BEGIN:VTIMEZONE
TZID:Europe/Paris
BEGIN:DAYLIGHT
TZOFFSETFROM:+0100
TZOFFSETTO:+0200
TZNAME:CEST
DTSTART:20230326T010000
END:DAYLIGHT
BEGIN:STANDARD
TZOFFSETFROM:+0200
TZOFFSETTO:+0100
TZNAME:CET
DTSTART:20231029T010000
END:STANDARD
BEGIN:DAYLIGHT
TZOFFSETFROM:+0100
TZOFFSETTO:+0200
TZNAME:CEST
DTSTART:20240331T010000
END:DAYLIGHT
BEGIN:STANDARD
TZOFFSETFROM:+0200
TZOFFSETTO:+0100
TZNAME:CET
DTSTART:20241027T010000
END:STANDARD
BEGIN:DAYLIGHT
TZOFFSETFROM:+0100
TZOFFSETTO:+0200
TZNAME:CEST
DTSTART:20250330T010000
END:DAYLIGHT
BEGIN:STANDARD
TZOFFSETFROM:+0200
TZOFFSETTO:+0100
TZNAME:CET
DTSTART:20251026T010000
END:STANDARD
END:VTIMEZONE
BEGIN:VEVENT
DTSTART;TZID=Europe/Paris:20241020T080000
DTEND;TZID=Europe/Paris:20241020T170000
DTSTAMP:20260425T220050
CREATED:20231105T074948Z
LAST-MODIFIED:20240725T081239Z
UID:1013-1729411200-1729443600@levenslijndamme.be
SUMMARY:St. Hubertustocht – busverplaatsing
DESCRIPTION:Wandeltocht De Sint-Hubertustocht\, afstanden 6; 12 en 18 km \nBepijlde wandeling op en rond de Catsberg met paardenwijding op de Catsberg omstreeks 11h00. Ingericht door wandelclub Vlaemsch Huiseke Godewaersvelde. \nStartlocatie: Feestzaal Rue de Callicanes\, 59270 Godewaersvelde. \nOpstapplaatsen:\nKerk Sint Rita om 07h30; sportcomplex Moerkerke om 07h40; Lindenplein Sijsele rond 07h50 en Bargeplein Brugge rond 08h00. \nAfreis Godewaersvelde uiterlijk rond 15h00 daar we aansluitend een brouwerijbezoek met etentje voorzien.\nBrouwerijbezoek start tussen 15h30 – 16h00  en duurt ongeveer anderhalf uur\, inbegrepen twee degustaties en 5 euro winkelkorting. \nVoor het eten achteraf is er stoofvlees en vol-au-vent met friet en groente voorzien. \nTerugrit zal rond 18h30-19h00 zijn. \nBijdrage voor dit geheel\, inschrijvingsbedrag wandeltocht inbegrepen bedraagt slechts 50 euro. \nDe clubkas zal hier voor het stuk bovenop tussenkomen. \nEr is een maximum van 50 personen\, de datum van ontvangst van de bijdrage telt als ingeschreven. \nLaatste inschrijvingsdatum 15 oktober. \nGelieve ook te vermelden waar je wilt opstappen. \nInschrijven via roger.snauwaert@skynet.be  – 0478 28 17 87
URL:https://levenslijndamme.be/event/st-hubertustocht-busverplaatsing/
LOCATION:Godewaersvelde\, Godewaersvelde\, Frankrijk
CATEGORIES:Wandeltocht
END:VEVENT
END:VCALENDAR