BEGIN:VCALENDAR
VERSION:2.0
PRODID:-//Levenslijn Team Damme - RoDaHeliS - ECPv6.15.20//NONSGML v1.0//EN
CALSCALE:GREGORIAN
METHOD:PUBLISH
X-ORIGINAL-URL:https://levenslijndamme.be
X-WR-CALDESC:Evenementen voor Levenslijn Team Damme - RoDaHeliS
REFRESH-INTERVAL;VALUE=DURATION:PT1H
X-Robots-Tag:noindex
X-PUBLISHED-TTL:PT1H
BEGIN:VTIMEZONE
TZID:Europe/Paris
BEGIN:DAYLIGHT
TZOFFSETFROM:+0100
TZOFFSETTO:+0200
TZNAME:CEST
DTSTART:20230326T010000
END:DAYLIGHT
BEGIN:STANDARD
TZOFFSETFROM:+0200
TZOFFSETTO:+0100
TZNAME:CET
DTSTART:20231029T010000
END:STANDARD
BEGIN:DAYLIGHT
TZOFFSETFROM:+0100
TZOFFSETTO:+0200
TZNAME:CEST
DTSTART:20240331T010000
END:DAYLIGHT
BEGIN:STANDARD
TZOFFSETFROM:+0200
TZOFFSETTO:+0100
TZNAME:CET
DTSTART:20241027T010000
END:STANDARD
BEGIN:DAYLIGHT
TZOFFSETFROM:+0100
TZOFFSETTO:+0200
TZNAME:CEST
DTSTART:20250330T010000
END:DAYLIGHT
BEGIN:STANDARD
TZOFFSETFROM:+0200
TZOFFSETTO:+0100
TZNAME:CET
DTSTART:20251026T010000
END:STANDARD
END:VTIMEZONE
BEGIN:VEVENT
DTSTART;TZID=Europe/Paris:20240928T080000
DTEND;TZID=Europe/Paris:20240928T170000
DTSTAMP:20260425T232302
CREATED:20231105T074647Z
LAST-MODIFIED:20240914T120222Z
UID:1009-1727510400-1727542800@levenslijndamme.be
SUMMARY:Kermistocht
DESCRIPTION:Rustige wandeltocht rondom Sijsele doorheen het Ryckeveldebos richting Oedelem. Langere afstanden gaan door de Assebroekse Meersen. Keuze uit 5-9-12-16-20-24km. Kortste afstand toegankelijk voor kinderwagens en rolstoel gebruikers. Verzorgde rustposten op alle afstanden.\nStart: tussen 08h00 en 15h00\nLaatste aankomsttijd 18h00 \nCultuurfabriek\nStationsstraat 22\n8340 Sijsele Damme \nLeden wandelclubs 1\,5 euro\nNiet leden 3 euro\ntot 12 jaar gratis
URL:https://levenslijndamme.be/event/kermistocht-4/
LOCATION:Cultuurfabriek\, Stationsstraat 22\, Sijsele\, 8340\, Belgium
CATEGORIES:Wandeltocht
END:VEVENT
END:VCALENDAR