BEGIN:VCALENDAR
VERSION:2.0
PRODID:-//Levenslijn Team Damme - RoDaHeliS - ECPv6.15.20//NONSGML v1.0//EN
CALSCALE:GREGORIAN
METHOD:PUBLISH
X-ORIGINAL-URL:https://levenslijndamme.be
X-WR-CALDESC:Evenementen voor Levenslijn Team Damme - RoDaHeliS
REFRESH-INTERVAL;VALUE=DURATION:PT1H
X-Robots-Tag:noindex
X-PUBLISHED-TTL:PT1H
BEGIN:VTIMEZONE
TZID:Europe/Paris
BEGIN:DAYLIGHT
TZOFFSETFROM:+0100
TZOFFSETTO:+0200
TZNAME:CEST
DTSTART:20230326T010000
END:DAYLIGHT
BEGIN:STANDARD
TZOFFSETFROM:+0200
TZOFFSETTO:+0100
TZNAME:CET
DTSTART:20231029T010000
END:STANDARD
BEGIN:DAYLIGHT
TZOFFSETFROM:+0100
TZOFFSETTO:+0200
TZNAME:CEST
DTSTART:20240331T010000
END:DAYLIGHT
BEGIN:STANDARD
TZOFFSETFROM:+0200
TZOFFSETTO:+0100
TZNAME:CET
DTSTART:20241027T010000
END:STANDARD
BEGIN:DAYLIGHT
TZOFFSETFROM:+0100
TZOFFSETTO:+0200
TZNAME:CEST
DTSTART:20250330T010000
END:DAYLIGHT
BEGIN:STANDARD
TZOFFSETFROM:+0200
TZOFFSETTO:+0100
TZNAME:CET
DTSTART:20251026T010000
END:STANDARD
END:VTIMEZONE
BEGIN:VEVENT
DTSTART;TZID=Europe/Paris:20240713T080000
DTEND;TZID=Europe/Paris:20240713T170000
DTSTAMP:20260426T020836
CREATED:20231105T073919Z
LAST-MODIFIED:20240530T133350Z
UID:1001-1720857600-1720890000@levenslijndamme.be
SUMMARY:Grens en Krekentocht
DESCRIPTION:Kom\, wandel en geniet van het mooie landschap langs en over de grens met Nederland richting Heille waar je een mix van natuurpracht vindt. De langste afstanden gaan zelfs tot Aardenburg. Eerste luik van de tweedaagse in Lapscheure waarvan het tweede luik de 12e Poldertocht op 20 juli is. \nBewegwijzerde wandeltocht met verzorgde rustposten. \nKortste afstand  toegankelijk voor kinderwagens en rolstoelgebruikers. \nStart en aankomst : zaal Heldewijs\, Hoogstraat 17\, 8340 Damme. \nVrije start tussen 07h00 en 15h00\, laatste aankomst om 18h00. \nKeuze tussen 4\, 8\, 12\, 15\, 18\, 22 en 26 km. Elk volgens zijn eigen voorkeur.
URL:https://levenslijndamme.be/event/grens-en-krekentocht/
LOCATION:Lapscheure\, Lapscheure\, Belgium
CATEGORIES:Wandeltocht
END:VEVENT
END:VCALENDAR