BEGIN:VCALENDAR
VERSION:2.0
PRODID:-//Levenslijn Team Damme - RoDaHeliS - ECPv6.15.20//NONSGML v1.0//EN
CALSCALE:GREGORIAN
METHOD:PUBLISH
X-WR-CALNAME:Levenslijn Team Damme - RoDaHeliS
X-ORIGINAL-URL:https://levenslijndamme.be
X-WR-CALDESC:Evenementen voor Levenslijn Team Damme - RoDaHeliS
REFRESH-INTERVAL;VALUE=DURATION:PT1H
X-Robots-Tag:noindex
X-PUBLISHED-TTL:PT1H
BEGIN:VTIMEZONE
TZID:Europe/Paris
BEGIN:DAYLIGHT
TZOFFSETFROM:+0100
TZOFFSETTO:+0200
TZNAME:CEST
DTSTART:20230326T010000
END:DAYLIGHT
BEGIN:STANDARD
TZOFFSETFROM:+0200
TZOFFSETTO:+0100
TZNAME:CET
DTSTART:20231029T010000
END:STANDARD
BEGIN:DAYLIGHT
TZOFFSETFROM:+0100
TZOFFSETTO:+0200
TZNAME:CEST
DTSTART:20240331T010000
END:DAYLIGHT
BEGIN:STANDARD
TZOFFSETFROM:+0200
TZOFFSETTO:+0100
TZNAME:CET
DTSTART:20241027T010000
END:STANDARD
BEGIN:DAYLIGHT
TZOFFSETFROM:+0100
TZOFFSETTO:+0200
TZNAME:CEST
DTSTART:20250330T010000
END:DAYLIGHT
BEGIN:STANDARD
TZOFFSETFROM:+0200
TZOFFSETTO:+0100
TZNAME:CET
DTSTART:20251026T010000
END:STANDARD
END:VTIMEZONE
BEGIN:VEVENT
DTSTART;TZID=Europe/Paris:20240428T080000
DTEND;TZID=Europe/Paris:20240428T170000
DTSTAMP:20260426T062051
CREATED:20231105T073629Z
LAST-MODIFIED:20240205T121033Z
UID:996-1714291200-1714323600@levenslijndamme.be
SUMMARY:Vlaanderen Wandelt – busverplaatsing
DESCRIPTION:Busreis naar Geluveld Zonnebeke op 28 april  waar we in het kader van Vlaanderen Wandelt meedoen aan de zevende bossentocht ingericht door de Drevestappers.\nAfstanden 5-10-12-15-20-26-30km waar talrijke mooie plekken in en rond de natuur van Zonnebeke kunnen bewonderd worden. Er zijn eveneens tal van oorlogsmonumenten en oorlogsbegraafplaatsen die kunnen bezichtigd worden. \nBijdrage busreis met inschrijvingsgeld wandeltocht inbegrepen bedraagt 15 euro en dit te storten op rekeningnummer BE74 1030 8801 1707. Er is een maximum aantal van 60 personen\, datum van ontvangst bijdrage telt als ingeschreven. \nOpstapplaatsen zijn.\nKerk Sint Rita om 07h30; sportcomplex Moerkerke om 07h40; Lindenplein Sijsele rond 07h50 en Bargeplein Brugge rond 08h00.\nAanvang terugrit zal rond 16h00-16-30 zijn.
URL:https://levenslijndamme.be/event/vlaanderen-wandelt-busverplaatsing/
LOCATION:Geluveld\, Geluveld\, België
CATEGORIES:Wandeltocht
END:VEVENT
END:VCALENDAR